BEGIN:VCALENDAR
VERSION:2.0
METHOD:PUBLISH
BEGIN:VEVENT
ORGANIZER:MAILTO:info@bvl.de
DTSTART:20260521T120000
DTEND:20260521T130000
LOCATION:Virtuelle Veranstaltung    
TRANSP:TRANSPARENT
SEQUENCE:0
UID:event3971@bvl.de
URL:http://www.bvl.de/veranstaltungen/regionalgruppen/detailseite?event=3971&languageid=1
DTSTAMP:20260424T200701
DESCRIPTION:Transformation ist längst kein Ausnahmezustand mehr – sie ist Alltag. Neue Technologien, volatile Märkte und steigende Anforderungen an Organisationen stellen Führungskräfte in der Logistik vor immer neue Herausforderungen.Wie gelingt Führung in diesem Spannungsfeld?Welche Kompetenzen sind heute entscheidend – und welche werden es morgen sein?Bei unserem nächsten virtuellen Logistik-Lunch der BVL Initiative Ladies in Logistics spricht Dr. Maj-Britt Pohlmann, Head of Operational Transformation bei der Aurubis AG & Executive Coach, über Führung in Zeiten von Transformation und Change. Sie gibt Einblicke in ihre Erfahrungen aus der Praxis, teilt persönliche Learnings und zeigt, wie Führung Orientierung geben kann, wenn sich Rahmenbedingungen ständig verändern.Freut euch auf ein offenes Gespräch über:- Leadership im Wandel- Umgang mit Unsicherheit und Veränderungsdruck- persönliche Entwicklung als FührungskraftDas Format richtet sich an alle, die sich mit moderner Führung in der Logistik beschäftigen – unabhängig von Rolle oder Karrierestufe. Lasst euch inspirieren, bringt eure Fragen mit und nehmt neue Impulse für euren eigenen Führungsalltag mit.Dieses Format ist Teil der BVL Initiative Ladies in Logistics. Wie immer sind uns alle Geschlechter herzlich Willkommen!
SUMMARY:Virtueller Logistik-Lunch der Initiative Ladies in Logistics: Führung in der Logistik in Zeiten von Transformation und Change 
PRIORITY:5
X-MICROSOFT-CDO-IMPORTANCE:1
CLASS:PUBLIC
END:VEVENT
END:VCALENDAR
