BEGIN:VCALENDAR
VERSION:2.0
METHOD:PUBLISH
BEGIN:VEVENT
ORGANIZER:MAILTO:info@bvl.de
DTSTART:20260520T150000
DTEND:20260520T173000
LOCATION:INTERROLL Holding GmbH Höferhof 16 42929 Wermelskirchen
TRANSP:TRANSPARENT
SEQUENCE:0
UID:event3965@bvl.de
URL:http://www.bvl.de/veranstaltungen/regionalgruppen/detailseite?event=3965&languageid=1
DTSTAMP:20260424T201237
DESCRIPTION:Die Regionalgruppe Südwestfalen lädt Sie herzlich zur Fachveranstaltung bei Interroll in Wermelskirchen ein. Am 20. Mai 2026 ab 15:00 Uhr erhalten Sie exklusive Einblicke in die Welt der Interroll Gruppe unter dem Motto „Von der Förderrolle bis zum Subsystem“. Im Rahmen einer Produktionsführung an unserem Gründungsstandort in Wermelskirchen sowie eines Rundgangs durch den Showroom gewinnen Sie einen umfassenden Eindruck. Zum Abschluss lädt die BVL zum Networking ein.
Wir freuen uns über eine zahlreiche Teilnahme.
Es grüßt herzlich das Sprecherteam Südwestfalen Andreas Hennig und Christof Berg
SUMMARY:Von der Förderrolle bis zum Subsystem
PRIORITY:5
X-MICROSOFT-CDO-IMPORTANCE:1
CLASS:PUBLIC
END:VEVENT
END:VCALENDAR
