BEGIN:VCALENDAR
VERSION:2.0
METHOD:PUBLISH
BEGIN:VEVENT
ORGANIZER:MAILTO:info@bvl.de
DTSTART:20250602T130000Z
DTEND:20250605T180000Z
LOCATION:Messe München
TRANSP:TRANSPARENT
SEQUENCE:0
UID:event41931@bvl.de
URL:http://www.bvl.de/index.php?id=41931&languageid=1
DTSTAMP:20260420T181756Z
SUMMARY:Fachforen auf der transport logistic München 2023
PRIORITY:5
X-MICROSOFT-CDO-IMPORTANCE:1
CLASS:PUBLIC
END:VEVENT
END:VCALENDAR