BEGIN:VCALENDAR
VERSION:2.0
METHOD:PUBLISH
BEGIN:VEVENT
ORGANIZER:MAILTO:info@bvl.de
DTSTART:20260519T173000
DTEND:20260519T200000
LOCATION:Freßgassfest Große Bockenheimer Str. 35 60313 Frankfurt am Main
TRANSP:TRANSPARENT
SEQUENCE:0
UID:event3969@bvl.de
URL:http://www.bvl.de/en/bvl-events/chapter-events/details?event=3969&languageid=2
DTSTAMP:20260424T212104
DESCRIPTION:Liebe BVL-Mitglieder der Regionalgruppe Rhein/Main,wir laden Euch herzlich zu unserem Treffen auf dem Freßgass-Fest 2026 ein:
Datum: Dienstag, 19. Mai 2026ab 17:30 UhrOrt: Freßgass-Fest | Große Bockenheimer Str. 35 | 60313 Frankfurt am Main
In ungezwungener Atmosphäre möchten wir zusammenkommen, uns persönlich austauschen und die Gelegenheit zum Networking nutzen. Außerdem möchten wir gerne erfahren, wer Interesse hat, sich künftig aktiv einzubringen – sei es durch Themenimpulse, die Mitgestaltung von Formaten oder die Unterstützung bei Unternehmensbesuchen und Veranstaltungen. Kommt gerne auf uns zu, wenn Ihr die Logistik Eures Unternehmens oder Eures Kunden gerne vorstellen möchtet.
Die Veranstaltung folgt keiner strengen Agenda. Ziel ist das gesellige Beisammensein. 
Wir freuen uns auf das persönliche Wiedersehen und einen lebendigen Austausch mit Euch! 
Mit besten GrüßenTill Krenzien, Sven Schürer, Joachim von WinningRegionalgruppensprecher BVL Rhein/Main
SUMMARY:Treffen auf dem Freßgass-Fest
PRIORITY:5
X-MICROSOFT-CDO-IMPORTANCE:1
CLASS:PUBLIC
END:VEVENT
END:VCALENDAR
