BEGIN:VCALENDAR
VERSION:2.0
METHOD:PUBLISH
BEGIN:VEVENT
ORGANIZER:MAILTO:info@bvl.de
DTSTART:20260416T170000
DTEND:20260416T200000
LOCATION:u+i Villa Johanniskirchplatz 6 33615 Bielefeld
TRANSP:TRANSPARENT
SEQUENCE:0
UID:event3916@bvl.de
URL:http://www.bvl.de/en/bvl-events/chapter-events/details?event=3916&languageid=2
DTSTAMP:20260421T142154
DESCRIPTION:Wenn Menschen, Prozesse und KI zusammenwirken.Innovation in der Supply Chain passiert selten dort, wo man sie erwartet. Sie entsteht im Zusammenspiel von Menschen, Organisation, Kultur, Prozessen, Daten und KI-gestützten Werkzeugen.Am 16. April bringen wir Vertreter+innen der Logistik-Branche, KMUs und Start-ups zusammen, um über das zu sprechen, was wirklich zählt: Holistische Innovation.
Was ist die Supply Chain x Digitization?Die Supply Chain x Digitization ist eine etablierte Eventreihe, die sich mit der praktischen Umsetzung der digitalen Transformation in der Wertschöpfungskette befasst. Am 16. April laden u+i interact und die BVL (Bundesvereinigung Logistik e.V.) bereits zum vierten Mal ein, um den Status Quo und die Zukunft des Supply Chain Management zu diskutieren.
Echte Transformation statt isolierter LösungenDie Fortschritte in der Supply Chain entstehen nicht allein durch isolierte Technologietrends. Sie sind das Ergebnis einer Kombination aus Kultur, Organisation, individuellen Fähigkeiten und Technologie. In dieser Ausgabe fokussieren wir uns darauf, wie Unternehmen, KI-gestützte Werkzeuge und neue Arbeitsweisen so integrieren, dass sie operativ wirksam werden.
Themenschwerpunkte im Überblick:• Kultur & Zusammenarbeit: Wie Haltung, Mut zur Fehlerkultur und cross-funktionale Teams die Basis für echte Veränderung schaffen.• Organisation & Strategie: Klare Strukturen, definierte Entscheidungswege und Rollen, die agiles Handeln erst ermöglichen.• Fähigkeiten & Ressourcen: Aufbau von Datenkompetenz und operativen Hebeln durch gezieltes Prototyping und Experimente.• Technologie & KI-Adoption: Systeme und Automatisierungen, die organisational und kulturell tief verankert sind und dadurch echten Nutzen stiften.Wir freuen uns auf euch!
SUMMARY:Supply Chain X Digitization 4: Innovation jenseits von Buzzwords
PRIORITY:5
X-MICROSOFT-CDO-IMPORTANCE:1
CLASS:PUBLIC
END:VEVENT
END:VCALENDAR
